Workbook
Name acc_code: [1]!COA[Account Code]
Name acc_db: [1]!COA[Default Balance]
Name acc_name: [1]!COA[Account Name]
Name acc_tb: [1]!COA[Trial Balance]
Name acc_type: [1]!COA[Account Type]
Name amount: [2]!Table1[AMOUNT]
Name GL_accname: [1]!GL[Account Name]
Name GL_acctype: [1]!GL[Account Type]
Name GL_Balance: [1]!GL[Balance]
Name GL_Credit: [1]!GL[Credit]
Name GL_Date: [1]!GL[Date]
Name GL_Debit: [1]!GL[Debit]
Name GL_Description: [1]!GL[Description]
Name type: [2]!Table1[TYPE]

Sheet Info
H1: For your customize template, send an email to: dexcelcoach@gmail.com OR Whatsapp on +234 812 596 1120

Sheet Income Statement
B2: AMAKA GLOBAL FOUNDATION (AGF)
B3: Three Statement Financial Model For Five (5) Years Period - 2024 to 2029
B5: Gross Profit Margin %
B6: Net Income as % of Revenue
B8: Income Statement | D8: Forecast | E8: Forecast | F8: Forecast | G8: Forecast | H8: Forecast
B9: ₦ in actual figures | D9: 45658 | E9: =DATE(YEAR(D9)+1,1,1) -> 46023 | F9: =DATE(YEAR(E9)+1,1,1) -> 46388 | G9: =DATE(YEAR(F9)+1,1,1) -> 46753 | H9: =DATE(YEAR(G9)+1,1,1) -> 47119 | K9: Use the date formatting style - yyyy/F
B10: Revenue
B11: Core Revenue | K11: ₦
B12: Auxiliary Revenue
B13: Gross Revenue | D13: =SUM(D11:D12) -> 0 | E13: =SUM(E11:E12) -> 0 | F13: =SUM(F11:F12) -> 0 | G13: =SUM(G11:G12) -> 0 | H13: =SUM(H11:H12) -> 0
B14: Cost of Goods Sold (COGS)
B15: Raw Materials
B16: Packaging
B17: Total COGS | D17: =SUM(D15:D16) -> 0 | E17: =SUM(E15:E16) -> 0 | F17: =SUM(F15:F16) -> 0 | G17: =SUM(G15:G16) -> 0 | H17: =SUM(H15:H16) -> 0
B18: Gross Profit | D18: =D13-D17 -> 0 | E18: =E13-E17 -> 0 | F18: =F13-F17 -> 0 | G18: =G13-G17 -> 0 | H18: =H13-H17 -> 0
B19: Operating Expenses
B20: Personnel
B21: Marketing
B22: SG&A
B23: Total OpEx | D23: =SUM(D20:D22) -> 0 | E23: =SUM(E20:E22) -> 0 | F23: =SUM(F20:F22) -> 0 | G23: =SUM(G20:G22) -> 0 | H23: =SUM(H20:H22) -> 0
B24: EBITDA | D24: =D18-D23 -> 0 | E24: =E18-E23 -> 0 | F24: =F18-F23 -> 0 | G24: =G18-G23 -> 0 | H24: =H18-H23 -> 0
B25: Depreciation & Amortization
B26: EBIT | D26: =D24-D25 -> 0 | E26: =E24-E25 -> 0 | F26: =F24-F25 -> 0 | G26: =G24-G25 -> 0 | H26: =H24-H25 -> 0
B27: Interest Expense
B28: EBT | D28: =D26-D27 -> 0 | E28: =E26-E27 -> 0 | F28: =F26-F27 -> 0 | G28: =G26-G27 -> 0 | H28: =H26-H27 -> 0
B29: Taxes
B30: Net Income | D30: =D28-D29 -> 0 | E30: =E28-E29 -> 0 | F30: =F28-F29 -> 0 | G30: =G28-G29 -> 0 | H30: =H28-H29 -> 0

Sheet Balance Sheet
B2: ='Income Statement'!B2 -> AMAKA GLOBAL FOUNDATION (AGF)
B3: ='Income Statement'!B3 -> Three Statement Financial Model For Five (5) Years Period - 2024 to 2029
B5: Balance Sheet | C5: Historical | D5: Forecast | E5: Forecast | F5: Forecast | G5: Forecast | H5: Forecast
B6: ₦ in actual figures | C6: 45657 | D6: ='Income Statement'!D9 -> 45658 | E6: ='Income Statement'!E9 -> 46023 | F6: ='Income Statement'!F9 -> 46388 | G6: ='Income Statement'!G9 -> 46753 | H6: ='Income Statement'!H9 -> 47119 | J6: "A" stand for Actual and "F" stand for Forecast
B7: Current Assets:
B8: Cash | C8: 223325
B9: Accounts Receivable | C9: 65000
B10: Total Current Assets | C10: =SUM(C8:C9) -> 288325 | D10: =SUM(D8:D9) -> 0 | E10: =SUM(E8:E9) -> 0 | F10: =SUM(F8:F9) -> 0 | G10: =SUM(G8:G9) -> 0 | H10: =SUM(H8:H9) -> 0
B11: Non Current Assets:
B12: Fixed Assets | C12: 40000
B13: Accumulated Depreciation | C13: -8000
B14: Net Fixed Assets | C14: =SUM(C12:C13) -> 32000 | D14: =SUM(D12:D13) -> 0 | E14: =SUM(E12:E13) -> 0 | F14: =SUM(F12:F13) -> 0 | G14: =SUM(G12:G13) -> 0 | H14: =SUM(H12:H13) -> 0
B15: Total Non Current Assets | C15: =C14 -> 32000 | D15: =D14 -> 0 | E15: =E14 -> 0 | F15: =F14 -> 0 | G15: =G14 -> 0 | H15: =H14 -> 0
B16: Total Assets | C16: =C15+C10 -> 320325 | D16: =D15+D10 -> 0 | E16: =E15+E10 -> 0 | F16: =F15+F10 -> 0 | G16: =G15+G10 -> 0 | H16: =H15+H10 -> 0
B18: Current Liabilities:
B19: Accounts Payable | C19: 30000
B20: Deferred Revenue | C20: 20000
B21: Total Current Liabilitites | C21: =SUM(C19:C20) -> 50000 | D21: =SUM(D19:D20) -> 0 | E21: =SUM(E19:E20) -> 0 | F21: =SUM(F19:F20) -> 0 | G21: =SUM(G19:G20) -> 0 | H21: =SUM(H19:H20) -> 0
B22: Non Current Liabilities:
B23: Debt | C23: 100000 | J23: Previous debt + new debt - any debt repaid
B24: Total Non Current Liabilitites | C24: =SUM(C23) -> 100000 | D24: =SUM(D23) -> 0 | E24: =SUM(E23) -> 0 | F24: =SUM(F23) -> 0 | G24: =SUM(G23) -> 0 | H24: =SUM(H23) -> 0
B25: Total Liabilitites | C25: =C24+C21 -> 150000 | D25: =D24+D21 -> 0 | E25: =E24+E21 -> 0 | F25: =F24+F21 -> 0 | G25: =G24+G21 -> 0 | H25: =H24+H21 -> 0
B26: Equity:
B27: Ordinary Shares | C27: 50000
B28: Retained Earnings | C28: 120325 | J28: Previous years balance + Net Income for the current year
B29: Total Equity | C29: =SUM(C27:C28) -> 170325 | D29: =SUM(D27:D28) -> 0 | E29: =SUM(E27:E28) -> 0 | F29: =SUM(F27:F28) -> 0 | G29: =SUM(G27:G28) -> 0 | H29: =SUM(H27:H28) -> 0
B30: Total Liabilities & Equity | C30: =C29+C25 -> 320325 | D30: =D29+D25 -> 0 | E30: =E29+E25 -> 0 | F30: =F29+F25 -> 0 | G30: =G29+G25 -> 0 | H30: =H29+H25 -> 0
B32: Balance Check | C32: =C16-C30 -> 0 | D32: =D16-D30 -> 0 | E32: =E16-E30 -> 0 | F32: =F16-F30 -> 0 | G32: =G16-G30 -> 0 | H32: =H16-H30 -> 0 | J32: Checks if Assets = Liablities + Equity

Sheet CashFlow Statement
B2: ='Balance Sheet'!B2 -> AMAKA GLOBAL FOUNDATION (AGF)
B3: ='Balance Sheet'!B3 -> Three Statement Financial Model For Five (5) Years Period - 2024 to 2029
B5: Statement of Cashflows | D5: Forecast | E5: Forecast | F5: Forecast | G5: Forecast | H5: Forecast
B6: ₦ in actual figures | D6: ='Income Statement'!D9 -> 45658 | E6: ='Income Statement'!E9 -> 46023 | F6: ='Income Statement'!F9 -> 46388 | G6: ='Income Statement'!G9 -> 46753 | H6: ='Income Statement'!H9 -> 47119
B7: Net Income
B8: Operating Activities
B9: Depreciation | K9: Depreciation is added back because it is not a real cash flow
B10: Change in Total Current Assets | K10: Current year minus the previous year
B11: Change in Deferred Revenue
B12: Change in Total Current Liabilitites
B13: Net Operating Cash Flow | D13: =SUM(D7:D12) -> 0 | E13: =SUM(E7:E12) -> 0 | F13: =SUM(F7:F12) -> 0 | G13: =SUM(G7:G12) -> 0 | H13: =SUM(H7:H12) -> 0
B14: Investing Activities
B15: CapEx
B16: Investing Cash Flow | D16: =SUM(D15) -> 0 | E16: =SUM(E15) -> 0 | F16: =SUM(F15) -> 0 | G16: =SUM(G15) -> 0 | H16: =SUM(H15) -> 0
B17: Financing Activities
B18: Debt Repayment
B19: New Borrowings
B20: Financing Cash Flow | D20: =SUM(D18:D19) -> 0 | E20: =SUM(E18:E19) -> 0 | F20: =SUM(F18:F19) -> 0 | G20: =SUM(G18:G19) -> 0 | H20: =SUM(H18:H19) -> 0
B21: Net Cash Flow | D21: =SUM(D13,D16,D20) -> 0 | E21: =SUM(E13,E16,E20) -> 0 | F21: =SUM(F13,F16,F20) -> 0 | G21: =SUM(G13,G16,G20) -> 0 | H21: =SUM(H13,H16,H20) -> 0
B23: Beginning Cash Flow
B24: Ending Cash Flow

Sheet Assumptions
B2: ='Income Statement'!B2 -> AMAKA GLOBAL FOUNDATION (AGF)
B3: ='Income Statement'!B3 -> Three Statement Financial Model For Five (5) Years Period - 2024 to 2029
B5: Assumptions | D5: Forecast | E5: Forecast | F5: Forecast | G5: Forecast | H5: Forecast
B6: ₦ in actual figures | D6: ='Income Statement'!D9 -> 45658 | E6: ='Income Statement'!E9 -> 46023 | F6: ='Income Statement'!F9 -> 46388 | G6: ='Income Statement'!G9 -> 46753 | H6: ='Income Statement'!H9 -> 47119
B8: Revenue
B9: Volume of Juice targeted (in units)
B10: Targeted Selling Price Per Unit (₦)
B11: Volume Growth Rate (%)
B12: Selling Price Growth Rate (%)
B13: Auxilliary Revenue (₦)
B15: Cost of Goods Sold (COGS)
B16: Raw Material cost as a % of Rev
B17: Packaging cost as a % of Rev
B19: Operating Expenses
B20: Personnel as a % of Rev
B21: Marketing as a % of Rev
... B31: Deferred Revenue as a % of rev
B33: CAPEX | C33: Useful Life
B34: Exisiting Assets
B35: New Additions:
B36: Refrigerator
B37: Juicer Machine
B39: Debt
B40: New Borrowing
B41: Debt Repayment
B42: Interest Rate

Sheet Schedules
B2: ='Income Statement'!B2 -> AMAKA GLOBAL FOUNDATION (AGF)
B3: ='Income Statement'!B3 -> Three Statement Financial Model For Five (5) Years Period - 2024 to 2029
B5: Computation Schedules | D5: Forecast | E5: Forecast | F5: Forecast | G5: Forecast | H5: Forecast
B6: ₦ in actual figures | D6: ='Income Statement'!D9 -> 45658 | E6: ='Income Statement'!E9 -> 46023 | F6: ='Income Statement'!F9 -> 46388 | G6: ='Income Statement'!G9 -> 46753 | H6: ='Income Statement'!H9 -> 47119
B8: Revenue Computation
B9: Core Revenue:
B10: Sales Volume
B11: Selling Price
B12: Total Core Revenue
B13: Auxiliary Revenue
B14: Gross Revenue
B16: COGS Computation
B17: =Assumptions!B16 -> Raw Material cost as a % of Rev
B18: =Assumptions!B17 -> Packaging cost as a % of Rev
B19: Total Cost of Sales
B21: Operating Expenses Computation
B22: =Assumptions!B20 -> Personnel as a % of Rev
B23: =Assumptions!B21 -> Marketing as a % of Rev
B24: =Assumptions!B22 -> SG&A as a % of Rev
B27: Income Tax Computation
B28: =Assumptions!B24 -> Company Tax Rate (%)
B30: Working Capital Computation
B31: =Assumptions!B27 -> Net Revenue (₦)
B32: =Assumptions!B28 -> COGS
B33: ='Balance Sheet'!B9 -> Accounts Receivable
B34: ='Balance Sheet'!B19 -> Accounts Payable
B35: ='Balance Sheet'!B20 -> Deferred Revenue
B37: =Assumptions!B29 -> Accounts Receivable as a % of rev
B38: =Assumptions!B30 -> Accounts Payable as a % of COGS
B39: =Assumptions!B31 -> Deferred Revenue as a % of rev
B41: Change in Account Receivables
B43: Change in Account Payables
B45: Change in Deferred Revenue
B47: Fixed Assets & Depreciation Computation
B48: Beginning Balance at cost
B49: CAPEX:
B50: =Assumptions!B36 -> Refrigerator
B51: =Assumptions!B37 -> Juicer Machine
B52: Total CAPEX
B53: Fixed Assets Ending Bal. @ Cost
...
